BEGIN:VCALENDAR
VERSION:2.0
PRODID:-//Folk Yoga - ECPv6.15.17.1//NONSGML v1.0//EN
CALSCALE:GREGORIAN
METHOD:PUBLISH
X-WR-CALNAME:Folk Yoga
X-ORIGINAL-URL:https://folksf.com
X-WR-CALDESC:Events for Folk Yoga
REFRESH-INTERVAL;VALUE=DURATION:PT1H
X-Robots-Tag:noindex
X-PUBLISHED-TTL:PT1H
BEGIN:VTIMEZONE
TZID:America/Los_Angeles
BEGIN:DAYLIGHT
TZOFFSETFROM:-0800
TZOFFSETTO:-0700
TZNAME:PDT
DTSTART:20240310T100000
END:DAYLIGHT
BEGIN:STANDARD
TZOFFSETFROM:-0700
TZOFFSETTO:-0800
TZNAME:PST
DTSTART:20241103T090000
END:STANDARD
BEGIN:DAYLIGHT
TZOFFSETFROM:-0800
TZOFFSETTO:-0700
TZNAME:PDT
DTSTART:20250309T100000
END:DAYLIGHT
BEGIN:STANDARD
TZOFFSETFROM:-0700
TZOFFSETTO:-0800
TZNAME:PST
DTSTART:20251102T090000
END:STANDARD
BEGIN:DAYLIGHT
TZOFFSETFROM:-0800
TZOFFSETTO:-0700
TZNAME:PDT
DTSTART:20260308T100000
END:DAYLIGHT
BEGIN:STANDARD
TZOFFSETFROM:-0700
TZOFFSETTO:-0800
TZNAME:PST
DTSTART:20261101T090000
END:STANDARD
END:VTIMEZONE
BEGIN:VEVENT
DTSTART;VALUE=DATE:20250930
DTEND;VALUE=DATE:20251008
DTSTAMP:20260420T060045
CREATED:20250604T013825Z
LAST-MODIFIED:20250604T013825Z
UID:7365-1759190400-1759881599@folksf.com
SUMMARY:Trauma-Informed YTT: Trauma\, Somatics\, and Psychology (Fall 2025)
DESCRIPTION:Are you a yoga teacher interested in learning to teach yoga in a trauma-informed way? Do you want to make your classes a safer and more inclusive space? Join our expert-led Trauma-Informed Yoga Teacher Training! In this comprehensive 40-hour Yoga Alliance-approved teacher training\, you’ll study with highly skilled trauma-informed instructors and learn how trauma affects our thoughts\, expresses itself in the body\, and shows up in the yoga room. Students in this program explore a wide range of topics\, including intersectionality\, mindfulness\, somatic psychology\, neuroscience\, and how yoga philosophy intersects with modern psychology on the topic of trauma. This interactive training is entirely online\, so it can be taken from anywhere! \nThis module–Trauma\, Somatics\, and Psychology with Marissa Nasca\, LCSW–explores the intersection between the ancient practice of yoga and the Western-based somatic approach to understanding and healing trauma. You’ll learn the myriad ways that the body holds and releases stories of the past. You’ll also learn about important ethical principles of teaching trauma-informed yoga\, the different settings and professions that are part of this work\, how to get involved as a yoga teacher\, and the importance of setting boundaries when working in this field. This module includes a range of practices\, including meditation\, visualization\, journaling\, and somatic experiencing exercises. \nThis module can be taken only as part of the complete Trauma-Informed Yoga Teacher Training. The Trauma-Informed Yoga Teacher Training provides 40 elective contact hours in Folk’s 300-hour Yoga Teacher Training\, or 40 CEUs if you are already a registered yoga teacher.  \nSchedule:  \nTuesday\, September 30\, 2025 I 6:30pm-9pm \nTuesday\, October 7\, 2025 I 6:30pm-9pm \nThis training is completely virtual. \nPrice: \n$990 for the complete program. Folk members & alumni receive 25% off of the full price. Modules for this program are offered twice a year; you will have a full year to complete all modules for the certificate. Each module can be taken once. Gain unlimited access to all Folk trainings\, workshops\, and classes with our Yoga School All-Access Membership! To learn more\, schedule a call with our Folk Yoga School Advisor. \nScholarship: \nBIPOC & people of non-dominant identities may apply for a scholarship for this training.
URL:https://folksf.com/event/trauma-informed-ytt-trauma-somatics-and-psychology-fall-2025/
LOCATION:Online Video Call\, CA\, United States
CATEGORIES:300 HR YTT,Continuing Education,Trauma
ATTACH;FMTTYPE=image/webp:https://folksf.com/wp-content/uploads/2024/05/Marissa-Nasca-1.webp
GEO:36.778261;-119.4179324
END:VEVENT
END:VCALENDAR